BEGIN:VCALENDAR
VERSION:2.0
PRODID:-//Onyeka Tefari Wellness and Spa - ECPv6.10.0//NONSGML v1.0//EN
CALSCALE:GREGORIAN
METHOD:PUBLISH
X-ORIGINAL-URL:https://onyekatefari.com
X-WR-CALDESC:Events for Onyeka Tefari Wellness and Spa
REFRESH-INTERVAL;VALUE=DURATION:PT1H
X-Robots-Tag:noindex
X-PUBLISHED-TTL:PT1H
BEGIN:VTIMEZONE
TZID:America/Los_Angeles
BEGIN:DAYLIGHT
TZOFFSETFROM:-0800
TZOFFSETTO:-0700
TZNAME:PDT
DTSTART:20220313T100000
END:DAYLIGHT
BEGIN:STANDARD
TZOFFSETFROM:-0700
TZOFFSETTO:-0800
TZNAME:PST
DTSTART:20221106T090000
END:STANDARD
END:VTIMEZONE
BEGIN:VEVENT
DTSTART;TZID=America/Los_Angeles:20220917T053000
DTEND;TZID=America/Los_Angeles:20220917T083000
DTSTAMP:20260423T173549
CREATED:20220913T161201Z
LAST-MODIFIED:20221108T091807Z
UID:10000036-1663392600-1663403400@onyekatefari.com
SUMMARY:Hiking San Diego: Iron Mountain
DESCRIPTION:Join us on Saturday September 17th as we take on Iron Mountain located Poway California. We will be setting out at 5:30AM from the trail head. The views at the top are beautiful\, and there are so many picturesque views on the way up. RSVP below to let us know you plan on joining us\, so we can look out for you. \nFrom All Trails \nOne of San Diego’s most popular hikes\, the Iron Mountain Trail leads to the second highest peak in Poway and offers great views of Northern San Diego County. On a clear day\, hikers can see Mt. Woodson as well as the Catalina Islands. The hike takes place just west of the Boulder Oaks Preserve and the Iron Mountain trailhead is accessed just south of the intersection of Poway Road and CA – 67. There is no shade on this hike so bring plenty of water and sunscreen. \nThe trail starts flat along a wide sandy trail heading east\, eventually getting steeper. There are some very rocky and washed-out sections\, so sturdy boots are recommended. Hikers soon reach the Ellie Lane Trail and take a right towards Iron Mountain. There are numerous switchbacks before reaching the summit. Visitors can also access the Wildwood Mountain and Ellie Lane hiking trails from the Iron Mountain trailhead. \nHead out on this 5.9-mile out-and-back trail near Poway\, California. Generally considered a moderately challenging route\, it takes an average of 2 h 52 min to complete. This is a very popular area for hiking and running\, so you’ll likely encounter other people while exploring. The trail is open year-round and is beautiful to visit anytime. Dogs are welcome\, but must be on a leash.
URL:https://onyekatefari.com/event/hiking-san-diego-iron-mountain/
LOCATION:Iron Mountain\, 14995 CA-67\, Poway\, CA\, 92064\, United States
CATEGORIES:Hiking
ATTACH;FMTTYPE=image/jpeg:https://onyekatefari.com/wp-content/uploads/2022/09/IMG_0144-2048x1152-1.jpeg
END:VEVENT
END:VCALENDAR