BEGIN:VCALENDAR
VERSION:2.0
PRODID:-//Onyeka Tefari Wellness and Spa - ECPv6.10.0//NONSGML v1.0//EN
CALSCALE:GREGORIAN
METHOD:PUBLISH
X-WR-CALNAME:Onyeka Tefari Wellness and Spa
X-ORIGINAL-URL:https://onyekatefari.com
X-WR-CALDESC:Events for Onyeka Tefari Wellness and Spa
REFRESH-INTERVAL;VALUE=DURATION:PT1H
X-Robots-Tag:noindex
X-PUBLISHED-TTL:PT1H
BEGIN:VTIMEZONE
TZID:UTC
BEGIN:STANDARD
TZOFFSETFROM:+0000
TZOFFSETTO:+0000
TZNAME:UTC
DTSTART:20250101T000000
END:STANDARD
TZID:UTC
BEGIN:STANDARD
TZOFFSETFROM:+0000
TZOFFSETTO:+0000
TZNAME:UTC
DTSTART:20250101T000000
END:STANDARD
END:VTIMEZONE
BEGIN:VEVENT
DTSTART;TZID=UTC:20250608T123000
DTEND;TZID=UTC:20250608T133000
DTSTAMP:20260420T134758
CREATED:20250424T231215Z
LAST-MODIFIED:20250424T231215Z
UID:10000510-1749385800-1749389400@onyekatefari.com
SUMMARY:Monthly Bantaba
DESCRIPTION:Step into the vibrant world of gardening as we continue our cherished tradition of the Monthly Bantaba at Onyeka Tefari Wellness and Spa! Join us every 2nd Sunday of the month at 8755 Aero Drive Suite 225 for a fulfilling experience of exploring diverse cultures and plants from around the world\, exchanging recipes\, and building a nurturing community. \nAt our Bantaba\, we celebrate the joy of growing our own food\, sharing insights\, and supporting each other’s journeys. Whether you’re a seasoned gardener or just starting out\, everyone is welcome to participate. It’s not about experience—it’s about a shared passion for learning\, growing\, and connecting with others. \nCome\, be a part of our inclusive gathering where we encourage each other to embrace the beauty of gardening\, exchange knowledge\, and cultivate friendships that bloom like our gardens. See you there! \n\n\n                Reserve Your Spot!\n        \n                \n                     \n                                                                    \n                        \n                        \n                        \n                                                                                                                         Sunday\, May 17\, 2026 IN 3 WEEKS\n                                                                                \n                                                \n                                                    12:30 PM60 minutes \n                                                    $0.00\n                                                    \n                                                                                                        \n                                                \n                                                                                            Sign Up\n                                                                                        \n                                    \n                                                                    Sunday\, June 14\, 2026 IN 7 WEEKS\n                                                                                \n                                                \n                                                    12:30 PM60 minutes \n                                                    $0.00\n                                                    \n                                                                                                        \n                                                \n                                                                                            Sign Up\n                                                                                        \n                                    \n                                                                    Sunday\, July 12\, 2026 IN 11 WEEKS\n                                                                                \n                                                \n                                                    12:30 PM60 minutes \n                                                    $0.00\n                                                    \n                                                                                                        \n                                                \n                                                                                            Sign Up\n                                                                                        \n                                    \n                                                                    Sunday\, August 9\, 2026 IN 15 WEEKS\n                                                                                \n                                                \n                                                    12:30 PM60 minutes \n                                                    $0.00\n                                                    \n                                                                                                        \n                                                \n                                                                                            Sign Up
URL:https://onyekatefari.com/event/monthly-bantaba-2-2/2025-06-08/
LOCATION:Onyeka Tefari Wellness & Spa\, 8755 Aero Drive\, San Diego\, 92123\, United States
CATEGORIES:Seed Share
ATTACH;FMTTYPE=image/jpeg:https://onyekatefari.com/wp-content/uploads/2024/01/MonthlyBantabaFB-Presentation-2.jpg
ORGANIZER;CN="Onyeka Tefari":MAILTO:info@onyekatefari.com
GEO:32.8081924;-117.1398287
X-APPLE-STRUCTURED-LOCATION;VALUE=URI;X-ADDRESS=Onyeka Tefari Wellness & Spa 8755 Aero Drive San Diego 92123 United States;X-APPLE-RADIUS=500;X-TITLE=8755 Aero Drive:geo:-117.1398287,32.8081924
END:VEVENT
BEGIN:VEVENT
DTSTART;TZID=UTC:20250611T180000
DTEND;TZID=UTC:20250611T193000
DTSTAMP:20260420T134800
CREATED:20250606T030158Z
LAST-MODIFIED:20250606T064401Z
UID:10000523-1749664800-1749670200@onyekatefari.com
SUMMARY:Sunset & Pink Full Moon Rise Hike
DESCRIPTION:Come celebrate the Pink Full Moon with us as we hike to a scenic viewpoint for a breathtaking evening of golden-hour sunlight and the moon’s glowing ascent. Named for the vibrant blooms of early summer\, this full moon invites us to pause and witness nature’s quiet beauty. \nWe’ll set out in time to watch the sunset paint the sky\, then stay to see the full moon rise as twilight deepens. It’s a perfect opportunity to step away from the everyday\, breathe in the fresh air\, and connect with the steady rhythms of the earth. \nThe hike is moderate—wear sturdy shoes\, dress for the weather\, and bring water\, a flashlight\, and anything else you need to stay comfortable. \nRSVP to join us—space is limited. \n(Note: This is a self-supported event—please bring your own supplies.) \nLocation: 6940 Barker Way San Diego CA 92119
URL:https://onyekatefari.com/event/sunset-and-full-moon-hike-cowles-mountain-via-service-road-4-2/
LOCATION:Cowles Mountain (Barker’s Way)\, 6951 Barker Way\, San Diego\, CA\, 92119\, United States
CATEGORIES:Adventures,Full Moon Hike,Hiking
ATTACH;FMTTYPE=image/png:https://onyekatefari.com/wp-content/uploads/2025/06/Pink-Moon.png
ORGANIZER;CN="Onyeka Tefari":MAILTO:info@onyekatefari.com
END:VEVENT
END:VCALENDAR