BEGIN:VCALENDAR
VERSION:2.0
PRODID:-//Onyeka Tefari Wellness and Spa - ECPv6.10.0//NONSGML v1.0//EN
CALSCALE:GREGORIAN
METHOD:PUBLISH
X-WR-CALNAME:Onyeka Tefari Wellness and Spa
X-ORIGINAL-URL:https://onyekatefari.com
X-WR-CALDESC:Events for Onyeka Tefari Wellness and Spa
REFRESH-INTERVAL;VALUE=DURATION:PT1H
X-Robots-Tag:noindex
X-PUBLISHED-TTL:PT1H
BEGIN:VTIMEZONE
TZID:UTC
BEGIN:STANDARD
TZOFFSETFROM:+0000
TZOFFSETTO:+0000
TZNAME:UTC
DTSTART:20250101T000000
END:STANDARD
TZID:UTC
BEGIN:STANDARD
TZOFFSETFROM:+0000
TZOFFSETTO:+0000
TZNAME:UTC
DTSTART:20250101T000000
END:STANDARD
END:VTIMEZONE
BEGIN:VEVENT
DTSTART;TZID=UTC:20250309T123000
DTEND;TZID=UTC:20250309T133000
DTSTAMP:20260419T214625
CREATED:20241114T193417Z
LAST-MODIFIED:20241114T194513Z
UID:10000507-1741523400-1741527000@onyekatefari.com
SUMMARY:Monthly Bantaba
DESCRIPTION:Step into the vibrant world of gardening as we continue our cherished tradition of the Monthly Bantaba at Onyeka Tefari Wellness and Spa! Join us every 2nd Sunday of the month at 8755 Aero Drive Suite 225 for a fulfilling experience of exploring diverse cultures and plants from around the world\, exchanging recipes\, and building a nurturing community. \nAt our Bantaba\, we celebrate the joy of growing our own food\, sharing insights\, and supporting each other’s journeys. Whether you’re a seasoned gardener or just starting out\, everyone is welcome to participate. It’s not about experience—it’s about a shared passion for learning\, growing\, and connecting with others. \nCome\, be a part of our inclusive gathering where we encourage each other to embrace the beauty of gardening\, exchange knowledge\, and cultivate friendships that bloom like our gardens. See you there! \n\n\n                Reserve Your Spot!\n        \n                \n                     \n                                                                    \n                        \n                        \n                        \n                                                                                                                         Sunday\, May 17\, 2026 IN 3 WEEKS\n                                                                                \n                                                \n                                                    12:30 PM60 minutes \n                                                    $0.00\n                                                    \n                                                                                                        \n                                                \n                                                                                            Sign Up\n                                                                                        \n                                    \n                                                                    Sunday\, June 14\, 2026 IN 7 WEEKS\n                                                                                \n                                                \n                                                    12:30 PM60 minutes \n                                                    $0.00\n                                                    \n                                                                                                        \n                                                \n                                                                                            Sign Up\n                                                                                        \n                                    \n                                                                    Sunday\, July 12\, 2026 IN 11 WEEKS\n                                                                                \n                                                \n                                                    12:30 PM60 minutes \n                                                    $0.00\n                                                    \n                                                                                                        \n                                                \n                                                                                            Sign Up\n                                                                                        \n                                    \n                                                                    Sunday\, August 9\, 2026 IN 15 WEEKS\n                                                                                \n                                                \n                                                    12:30 PM60 minutes \n                                                    $0.00\n                                                    \n                                                                                                        \n                                                \n                                                                                            Sign Up
URL:https://onyekatefari.com/event/monthly-bantaba-2/2025-03-09/
LOCATION:Onyeka Tefari Wellness & Spa\, 8755 Aero Drive\, San Diego\, 92123\, United States
CATEGORIES:Seed Share
ATTACH;FMTTYPE=image/jpeg:https://onyekatefari.com/wp-content/uploads/2024/01/MonthlyBantabaFB-Presentation-2.jpg
ORGANIZER;CN="Onyeka Tefari":MAILTO:info@onyekatefari.com
GEO:32.8081924;-117.1398287
X-APPLE-STRUCTURED-LOCATION;VALUE=URI;X-ADDRESS=Onyeka Tefari Wellness & Spa 8755 Aero Drive San Diego 92123 United States;X-APPLE-RADIUS=500;X-TITLE=8755 Aero Drive:geo:-117.1398287,32.8081924
END:VEVENT
BEGIN:VEVENT
DTSTART;TZID=UTC:20250314T183000
DTEND;TZID=UTC:20250314T200000
DTSTAMP:20260419T214627
CREATED:20241115T040954Z
LAST-MODIFIED:20250310T220844Z
UID:10000529-1741977000-1741982400@onyekatefari.com
SUMMARY:Sunset and Full Moon Hike: Cowles Mountain via Service Road
DESCRIPTION:Embrace the Full Moon Magic! Join Our Enchanting Hike Under the Celestial Glow! \nLocation: [6940 Barker Way San Diego CA 92119] \nJoin us for an unforgettable hike at Cowles Mountain\, taking the well-trodden route via the service road. Whether you’re an avid hiker or new to the trails\, this accessible path guarantees a smooth and direct ascent to the summit without the challenge of climbing over boulders. As the sun casts its final rays over the landscape\, we’ll witness a breathtaking spectacle together\, surrounded by a community of nature enthusiasts. Embrace the tranquility of the evening and immerse yourself in the stunning vistas that unfold as we reach the pinnacle. The journey promises not only a rewarding sunset experience but also a chance to forge lasting connections with fellow hikers. Don’t miss this opportunity to be a part of the awe-inspiring beauty that awaits us at the top of Cowles Mountain.
URL:https://onyekatefari.com/event/sunset-and-full-moon-hike-cowles-mountain-via-service-road-4/2025-03-14/
LOCATION:Cowles Mountain (Barker’s Way)\, 6951 Barker Way\, San Diego\, CA\, 92119\, United States
CATEGORIES:Adventures,Full Moon Hike,Hiking
ATTACH;FMTTYPE=image/jpeg:https://onyekatefari.com/wp-content/uploads/2023/08/Cowles-Mountain.jpeg
ORGANIZER;CN="Onyeka Tefari":MAILTO:info@onyekatefari.com
END:VEVENT
END:VCALENDAR