BEGIN:VCALENDAR
VERSION:2.0
PRODID:-//Onyeka Tefari Wellness and Spa - ECPv6.10.0//NONSGML v1.0//EN
CALSCALE:GREGORIAN
METHOD:PUBLISH
X-WR-CALNAME:Onyeka Tefari Wellness and Spa
X-ORIGINAL-URL:https://onyekatefari.com
X-WR-CALDESC:Events for Onyeka Tefari Wellness and Spa
REFRESH-INTERVAL;VALUE=DURATION:PT1H
X-Robots-Tag:noindex
X-PUBLISHED-TTL:PT1H
BEGIN:VTIMEZONE
TZID:UTC
BEGIN:STANDARD
TZOFFSETFROM:+0000
TZOFFSETTO:+0000
TZNAME:UTC
DTSTART:20240101T000000
END:STANDARD
TZID:America/Los_Angeles
BEGIN:DAYLIGHT
TZOFFSETFROM:-0800
TZOFFSETTO:-0700
TZNAME:PDT
DTSTART:20240310T100000
END:DAYLIGHT
BEGIN:STANDARD
TZOFFSETFROM:-0700
TZOFFSETTO:-0800
TZNAME:PST
DTSTART:20241103T090000
END:STANDARD
END:VTIMEZONE
BEGIN:VEVENT
DTSTART;TZID=UTC:20241208T123000
DTEND;TZID=UTC:20241208T133000
DTSTAMP:20260420T134755
CREATED:20240308T015459Z
LAST-MODIFIED:20240308T015500Z
UID:10000439-1733661000-1733664600@onyekatefari.com
SUMMARY:Monthly Bantaba
DESCRIPTION:Step into the vibrant world of gardening as we continue our cherished tradition of the Monthly Bantaba at Onyeka Tefari Wellness and Spa! Join us every 2nd Sunday of the month at 8755 Aero Drive Suite 225 for a fulfilling experience of exploring diverse cultures and plants from around the world\, exchanging recipes\, and building a nurturing community. \nAt our Bantaba\, we celebrate the joy of growing our own food\, sharing insights\, and supporting each other’s journeys. Whether you’re a seasoned gardener or just starting out\, everyone is welcome to participate. It’s not about experience—it’s about a shared passion for learning\, growing\, and connecting with others. \nCome\, be a part of our inclusive gathering where we encourage each other to embrace the beauty of gardening\, exchange knowledge\, and cultivate friendships that bloom like our gardens. See you there! \n\n\n                Reserve Your Spot!\n        \n                \n                     \n                                                                    \n                        \n                        \n                        \n                                                                                                                         Sunday\, May 17\, 2026 IN 3 WEEKS\n                                                                                \n                                                \n                                                    12:30 PM60 minutes \n                                                    $0.00\n                                                    \n                                                                                                        \n                                                \n                                                                                            Sign Up\n                                                                                        \n                                    \n                                                                    Sunday\, June 14\, 2026 IN 7 WEEKS\n                                                                                \n                                                \n                                                    12:30 PM60 minutes \n                                                    $0.00\n                                                    \n                                                                                                        \n                                                \n                                                                                            Sign Up\n                                                                                        \n                                    \n                                                                    Sunday\, July 12\, 2026 IN 11 WEEKS\n                                                                                \n                                                \n                                                    12:30 PM60 minutes \n                                                    $0.00\n                                                    \n                                                                                                        \n                                                \n                                                                                            Sign Up\n                                                                                        \n                                    \n                                                                    Sunday\, August 9\, 2026 IN 15 WEEKS\n                                                                                \n                                                \n                                                    12:30 PM60 minutes \n                                                    $0.00\n                                                    \n                                                                                                        \n                                                \n                                                                                            Sign Up
URL:https://onyekatefari.com/event/monthly-bantaba-3-2-2-2-2-2-2/2024-12-08/
LOCATION:Onyeka Tefari Wellness & Spa\, 8755 Aero Drive\, San Diego\, 92123\, United States
CATEGORIES:Seed Share
ATTACH;FMTTYPE=image/jpeg:https://onyekatefari.com/wp-content/uploads/2024/01/MonthlyBantabaFB-Presentation-2.jpg
ORGANIZER;CN="Onyeka Tefari":MAILTO:info@onyekatefari.com
GEO:32.8081924;-117.1398287
X-APPLE-STRUCTURED-LOCATION;VALUE=URI;X-ADDRESS=Onyeka Tefari Wellness & Spa 8755 Aero Drive San Diego 92123 United States;X-APPLE-RADIUS=500;X-TITLE=8755 Aero Drive:geo:-117.1398287,32.8081924
END:VEVENT
BEGIN:VEVENT
DTSTART;TZID=UTC:20241214T100000
DTEND;TZID=UTC:20241214T113000
DTSTAMP:20260420T134756
CREATED:20241114T200719Z
LAST-MODIFIED:20241114T200719Z
UID:10000392-1734170400-1734175800@onyekatefari.com
SUMMARY:December's Charity Event: Distributing Winter Items
DESCRIPTION:This winter\, join us for the Warm Head\, Warm Hearts Winter Items Distribution! Our dedicated volunteers will be on-site to hand out prepackaged winter essentials to community members in need. Each package will include items like hats\, gloves\, and socks to help ensure everyone stays warm as the temperatures drop. \nEvent Details: \n\nEvent Name: Warm Head\, Warm Hearts Winter Items Distribution\nDate: 12/14/2024\nTime: 10:00 AM\nLocation: Neil Good Day Center\nWho: Open to individuals and families who could benefit from extra winter warmth\nCost: Free
URL:https://onyekatefari.com/event/decembers-charity-event-distributing-winter-items/
LOCATION:Neil Good Day Center\, 299 17th St\, San Diego\, CA\, 92101\, United States
CATEGORIES:Charity
ATTACH;FMTTYPE=image/png:https://onyekatefari.com/wp-content/uploads/2022/12/Untitled-design-28.png
ORGANIZER;CN="Onyeka Tefari":MAILTO:info@onyekatefari.com
GEO:32.7078719;-117.1483152
X-APPLE-STRUCTURED-LOCATION;VALUE=URI;X-ADDRESS=Neil Good Day Center 299 17th St San Diego CA 92101 United States;X-APPLE-RADIUS=500;X-TITLE=299 17th St:geo:-117.1483152,32.7078719
END:VEVENT
BEGIN:VEVENT
DTSTART;TZID=America/Los_Angeles:20241217T160000
DTEND;TZID=America/Los_Angeles:20241217T180000
DTSTAMP:20260420T134756
CREATED:20241215T011532Z
LAST-MODIFIED:20241215T015421Z
UID:10000528-1734451200-1734458400@onyekatefari.com
SUMMARY:Summit Serenity Sound Experience
DESCRIPTION:Experience the magic of nature as day turns to night on our Summit Serenity Sound Experience\, a journey designed to refresh your spirit and balance your energy. This event combines the invigorating effects of a sunset hike with the powerful harmonizing vibrations of tuning forks and chimes\, all set against the breathtaking hues of a fading sun. \nEvent Highlights: \n\nSunset Mountain Hike: Enjoy a moderate hike as the golden hour paints the sky with vibrant shades of orange\, pink\, and purple. Let the beauty of nature at dusk ground you and prepare your mind for the calming sound therapy to follow.\nTuning Fork Biofield Therapy at the Peak: At the summit\, unwind with a guided sound session using tuning forks\, designed to balance your biofield and release stagnant energy. Feel the vibrations gently restore harmony to your body\, mind\, and spirit.\nChimes to Balance Yin and Yang: Delicate chimes will complement the tuning forks\, creating a serene soundscape that aligns calming yin energies with invigorating yang frequencies for a complete energy reset.\nTransition into Night: As the sun dips below the horizon\, bask in the peace of twilight\, feeling the synergy of sound and the natural world around you.\n\nWhat to Bring: \n\n Comfortable hiking shoes and weather-appropriate attire\nWater and light snacks\nA blanket for the sound therapy session (truly optional)\nA flashlight or headlamp for the hike back down\nAn open heart to embrace the beauty and stillness of the moment\n\nDetails:\n– Date: 12/17/2024\n– Time: 4:00PM\n– Location: Barker Way\, San Diego\, CA 92119 \nWitness the vibrant colors of the sunset\, breathe in the cool evening air\, and align your energy in the presence of nature’s beauty. Whether you’re seeking renewal\, reflection\, or simply an awe-inspiring experience\, this hike promises to leave you feeling deeply connected and restored.
URL:https://onyekatefari.com/event/summit-serenity-sound-experience/
LOCATION:Cowles Mountain (Barker’s Way)\, 6951 Barker Way\, San Diego\, CA\, 92119\, United States
CATEGORIES:Sound Therapy
ATTACH;FMTTYPE=image/jpeg:https://onyekatefari.com/wp-content/uploads/2024/12/Simple-Video-Collage-Winter-Animated-Blog-Banner.jpg
ORGANIZER;CN="Onyeka Tefari":MAILTO:info@onyekatefari.com
END:VEVENT
END:VCALENDAR