BEGIN:VCALENDAR
VERSION:2.0
PRODID:-//Onyeka Tefari Wellness and Spa - ECPv6.10.0//NONSGML v1.0//EN
CALSCALE:GREGORIAN
METHOD:PUBLISH
X-WR-CALNAME:Onyeka Tefari Wellness and Spa
X-ORIGINAL-URL:https://onyekatefari.com
X-WR-CALDESC:Events for Onyeka Tefari Wellness and Spa
REFRESH-INTERVAL;VALUE=DURATION:PT1H
X-Robots-Tag:noindex
X-PUBLISHED-TTL:PT1H
BEGIN:VTIMEZONE
TZID:America/Los_Angeles
BEGIN:DAYLIGHT
TZOFFSETFROM:-0800
TZOFFSETTO:-0700
TZNAME:PDT
DTSTART:20220313T100000
END:DAYLIGHT
BEGIN:STANDARD
TZOFFSETFROM:-0700
TZOFFSETTO:-0800
TZNAME:PST
DTSTART:20221106T090000
END:STANDARD
END:VTIMEZONE
BEGIN:VEVENT
DTSTART;TZID=America/Los_Angeles:20220722T080000
DTEND;TZID=America/Los_Angeles:20220722T110000
DTSTAMP:20260425T063602
CREATED:20220713T005515Z
LAST-MODIFIED:20221108T080015Z
UID:10000028-1658476800-1658487600@onyekatefari.com
SUMMARY:Stand Up Paddle Boarding (San Diego)
DESCRIPTION:Join us for a relaxing morning of Stand Up Paddle Boarding. We will start out at 8:00\, and go until everyone is tired. This is a bring your own board event\, so grab your paddle board (or rent one)\, and join us in Point Loma/Liberty Station!
URL:https://onyekatefari.com/event/stand-up-paddle-boarding/
LOCATION:Kanaka Landing\, 2877 Historic Decatur Rd\, San Diego\, CA\, 92106\, United States
CATEGORIES:SUP
ATTACH;FMTTYPE=image/jpeg:https://onyekatefari.com/wp-content/uploads/2022/07/87F04444-0FC4-4D88-BE77-8FFD9178AF72-2048x1536-1.jpeg
ORGANIZER;CN="Onyeka Tefari":MAILTO:info@onyekatefari.com
END:VEVENT
END:VCALENDAR